Workbook

Sheet エントリーシート
A2: 第3回芦原会館全日本SABAKIトーナメント 支部別選手一覧 | D2: 開催日 | E2: 46270 | F2: 締切 | G2: 7月6日（月） | I2: 左隣の欄に日付・番号を入力すると自動で反映されます。 | N2: 選択肢の中から選んでください
D4: 支部 | F4: 支部責任者名 | J4: 連絡先
B6: 郵便番号 | D6: 住所 | J6: 建物名・部屋番号 | P6: エントリー費 合計 | Q6: =SUM(Q13:Q32) -> 0
Q7: 銀行振込にて上記の額をご入金下さい
G8: 1か月→0.1 | L8: 賞状作成にいるので必ずご記入ください。 | Q8: 自動で計算されます
D9: ####/##/## | G9: 10か月→0.10 | H9: 整数でご記入ください。 | L9: また、ペアが変更になった場合は当日含め早い段階でご報告ください。
D10: ↓ | G10: ↓ | H10: ↓ | L10: ↓
B11: 名前 | C11: ﾌﾘｶﾞﾅ | D11: 生年月日 | E11: 年齢 | F11: 級・段位 | G11: キャリア | H11: 身長（cm） | I11: 体重（kg） | J11: 型の部 | L11: ペアの名前 （中学生以上） | M11: フルコンタクトの部 | O11: 顔面有の部 | Q11: エントリー費
A12: 例 | B12: 菅原 大河 | C12: ｽｶﾞﾜﾗ ﾀｲｶﾞ | D12: 36912 | E12: =DATEDIF(D12,$E$2,"Y") -> 25 | F12: 初段 | G12: 6.11 | H12: 172.1 | I12: 69 | J12: 29 | K12: =VLOOKUP(J12,カテゴリー番号!$A$3:$B$14,2,0) -> 一般男子 | L12: 入江 奏人 | M12: 32 | N12: =VLOOKUP(エントリーシート!M12,カテゴリー番号!$C$3:$D$32,2,0) -> 一般男子（35歳未満） 75kg未満 | O12: 43 | P12: =VLOOKUP(O12,カテゴリー番号!$E$3:$F$4,2,0) -> 一般男子 75kg未満 | Q12: 9000
A13: 1 | E13: =DATEDIF(D13,$E$2,"Y") -> 126 | K13: =VLOOKUP(J13,カテゴリー番号!$A$3:$B$14,2,0) -> #N/A | N13: =VLOOKUP(エントリーシート!M13,カテゴリー番号!$C$3:$D$32,2,0) -> #N/A | P13: =VLOOKUP(O13,カテゴリー番号!$E$3:$F$4,2,0) -> #N/A
A14: 2 | E14: =DATEDIF(D14,$E$2,"Y") -> 126 | K14: =VLOOKUP(J14,カテゴリー番号!$A$3:$B$14,2,0) -> #N/A | N14: =VLOOKUP(エントリーシート!M14,カテゴリー番号!$C$3:$D$32,2,0) -> #N/A | P14: =VLOOKUP(O14,カテゴリー番号!$E$3:$F$4,2,0) -> #N/A
A15: 3 | E15: =DATEDIF(D15,$E$2,"Y") -> 126 | K15: =VLOOKUP(J15,カテゴリー番号!$A$3:$B$14,2,0) -> #N/A | N15: =VLOOKUP(エントリーシート!M15,カテゴリー番号!$C$3:$D$32,2,0) -> #N/A | P15: =VLOOKUP(O15,カテゴリー番号!$E$3:$F$4,2,0) -> #N/A
A16: 4 | E16: =DATEDIF(D16,$E$2,"Y") -> 126 | K16: =VLOOKUP(J16,カテゴリー番号!$A$3:$B$14,2,0) -> #N/A | N16: =VLOOKUP(エントリーシート!M16,カテゴリー番号!$C$3:$D$32,2,0) -> #N/A | P16: =VLOOKUP(O16,カテゴリー番号!$E$3:$F$4,2,0) -> #N/A
A17: 5 | E17: =DATEDIF(D17,$E$2,"Y") -> 126 | K17: =VLOOKUP(J17,カテゴリー番号!$A$3:$B$14,2,0) -> #N/A | N17: =VLOOKUP(エントリーシート!M17,カテゴリー番号!$C$3:$D$32,2,0) -> #N/A | P17: =VLOOKUP(O17,カテゴリー番号!$E$3:$F$4,2,0) -> #N/A
A18: 6 | E18: =DATEDIF(D18,$E$2,"Y") -> 126 | K18: =VLOOKUP(J18,カテゴリー番号!$A$3:$B$14,2,0) -> #N/A | N18: =VLOOKUP(エントリーシート!M18,カテゴリー番号!$C$3:$D$32,2,0) -> #N/A | P18: =VLOOKUP(O18,カテゴリー番号!$E$3:$F$4,2,0) -> #N/A
A19: 7 | E19: =DATEDIF(D19,$E$2,"Y") -> 126 | K19: =VLOOKUP(J19,カテゴリー番号!$A$3:$B$14,2,0) -> #N/A | N19: =VLOOKUP(エントリーシート!M19,カテゴリー番号!$C$3:$D$32,2,0) -> #N/A | P19: =VLOOKUP(O19,カテゴリー番号!$E$3:$F$4,2,0) -> #N/A
A20: 8 | E20: =DATEDIF(D20,$E$2,"Y") -> 126 | K20: =VLOOKUP(J20,カテゴリー番号!$A$3:$B$14,2,0) -> #N/A | N20: =VLOOKUP(エントリーシート!M20,カテゴリー番号!$C$3:$D$32,2,0) -> #N/A | P20: =VLOOKUP(O20,カテゴリー番号!$E$3:$F$4,2,0) -> #N/A
A21: 9 | E21: =DATEDIF(D21,$E$2,"Y") -> 126 | K21: =VLOOKUP(J21,カテゴリー番号!$A$3:$B$14,2,0) -> #N/A | N21: =VLOOKUP(エントリーシート!M21,カテゴリー番号!$C$3:$D$32,2,0) -> #N/A | P21: =VLOOKUP(O21,カテゴリー番号!$E$3:$F$4,2,0) -> #N/A
A22: 10 | E22: =DATEDIF(D22,$E$2,"Y") -> 126 | K22: =VLOOKUP(J22,カテゴリー番号!$A$3:$B$14,2,0) -> #N/A | N22: =VLOOKUP(エントリーシート!M22,カテゴリー番号!$C$3:$D$32,2,0) -> #N/A | P22: =VLOOKUP(O22,カテゴリー番号!$E$3:$F$4,2,0) -> #N/A
A23: 11 | E23: =DATEDIF(D23,$E$2,"Y") -> 126 | K23: =VLOOKUP(J23,カテゴリー番号!$A$3:$B$14,2,0) -> #N/A | N23: =VLOOKUP(エントリーシート!M23,カテゴリー番号!$C$3:$D$32,2,0) -> #N/A | P23: =VLOOKUP(O23,カテゴリー番号!$E$3:$F$4,2,0) -> #N/A
A24: 12 | E24: =DATEDIF(D24,$E$2,"Y") -> 126 | K24: =VLOOKUP(J24,カテゴリー番号!$A$3:$B$14,2,0) -> #N/A | N24: =VLOOKUP(エントリーシート!M24,カテゴリー番号!$C$3:$D$32,2,0) -> #N/A | P24: =VLOOKUP(O24,カテゴリー番号!$E$3:$F$4,2,0) -> #N/A
... A32: 20 | E32: =DATEDIF(D32,$E$2,"Y") -> 126 | K32: =VLOOKUP(J32,カテゴリー番号!$A$3:$B$14,2,0) -> #N/A | N32: =VLOOKUP(エントリーシート!M32,カテゴリー番号!$C$3:$D$32,2,0) -> #N/A | P32: =VLOOKUP(O32,カテゴリー番号!$E$3:$F$4,2,0) -> #N/A

Sheet カテゴリー番号
A1: カテゴリー番号
A2: 型の部 | C2: フルコンタクトの部 | E2: 顔面有の部
A3: 1 | B3: 小学1年 | C3: 11 | D3: 小学1年 男女混合 | E3: 43 | F3: 一般男子 75kg未満
A4: 2 | B4: 小学2年 | C4: 12 | D4: 小学2年 男女混合 | E4: 44 | F4: 一般男子 75kg以上
A5: 3 | B5: 小学3年 | C5: 13 | D5: 小学3年 男女混合
A6: 4 | B6: 小学4年 | C6: 14 | D6: 小学4年 男女混合
A7: 5 | B7: 小学5年 | C7: 15 | D7: 小学5年 男子37kg未満
A8: 6 | B8: 小学6年 | C8: 16 | D8: 小学5年 男子37kg以上
A9: 7 | B9: 中学男子 | C9: 17 | D9: 小学5年 女子
A10: 8 | B10: 中学女子 | C10: 18 | D10: 小学6年 男子43kg未満
A11: 9 | B11: 高校男子 | C11: 19 | D11: 小学6年 男子43kg以上
A12: 10 | B12: 高校女子 | C12: 20 | D12: 小学6年 女子
A13: 29 | B13: 一般男子 | C13: 21 | D13: 中学男子 55kg未満
A14: 30 | B14: 一般女子 | C14: 22 | D14: 中学男子 55kg以上
C15: 23 | D15: 中学女子 50kg未満
C16: 24 | D16: 中学女子 50kg以上
C17: 25 | D17: 高校男子 65kg未満
C18: 26 | D18: 高校男子 65kg以上
C19: 27 | D19: 高校女子 55kg未満
C20: 28 | D20: 高校女子 55kg以上
C21: 31 | D21: 一般男子（35歳未満） 65kg未満
C22: 32 | D22: 一般男子（35歳未満） 75kg未満
C23: 33 | D23: 一般男子（35歳未満） 85kg未満
C24: 34 | D24: 一般男子（35歳未満） 85kg以上
C25: 35 | D25: 一般男子（35歳以上） 75kg未満
C26: 36 | D26: 一般男子（35歳以上） 75kg以上
... C32: 42 | D32: 一般女子 55kg以上

Sheet 選択肢
A1: 級・段位 | C1: エントリー費
A2: 無級 | C2: 7000
A3: 10級 | C3: 8000
A4: 9級 | C4: 9000
A5: 8級 | C5: 10000
A6: 7級
A7: 6級
A8: 5級
A9: 4級
A10: 3級
A11: 2級
A12: 1級
A13: 初段
A14: 二段
A15: 三段
A16: 四段
